BEGIN:VCALENDAR
VERSION:2.0
PRODID:-//SVP Eschenbach //NONSGML Events //EN
CALSCALE:GREGORIAN
X-WR-CALNAME:SVP Eschenbach
BEGIN:VEVENT
CREATED:20260119T073742Z
UID:882
DTEND:20260625T210000
DTSTART:20260625T200000
DTSTAMP:20260420T133804Z
LOCATION:Restaurant Rathaus\, Rapperswil
DESCRIPTION:
SUMMARY:Sessionsrückblick NR / KR SVP See-Gaster
ORGANIZER:SVP Kreispartei See-Gaster
URL;VALUE=URI:https://www.svp-eschenbach-sg.ch/termine/sessionsrueckblick-nr-kr-svp-kreis-see-gaster/
TRANSP:OPAQUE
END:VEVENT
END:VCALENDAR
