BEGIN:VCALENDAR
VERSION:2.0
PRODID:-//SVP Eschenbach //NONSGML Events //EN
CALSCALE:GREGORIAN
X-WR-CALNAME:SVP Eschenbach
BEGIN:VEVENT
CREATED:20260119T074418Z
UID:884
DTEND:20260801T190000
DTSTART:20260801T183000
DTSTAMP:20260420T152119Z
LOCATION:Bauernhof Fam. Müller\, Goldberg 108\, Schmerikon
DESCRIPTION:
SUMMARY:Öffentliche Bundesfeier mit NR Mike Egger
ORGANIZER:SVP Schmerikon
URL;VALUE=URI:https://www.svp-eschenbach-sg.ch/termine/oeffentliche-bundesfeier-mit-nr-mike-egger/
TRANSP:OPAQUE
END:VEVENT
END:VCALENDAR
