BEGIN:VCALENDAR
VERSION:2.0
PRODID:-//SVP Eschenbach //NONSGML Events //EN
CALSCALE:GREGORIAN
X-WR-CALNAME:SVP Eschenbach
BEGIN:VEVENT
CREATED:20260119T074711Z
UID:888
DTEND:20261014T210000
DTSTART:20261014T200000
DTSTAMP:20260420T170653Z
LOCATION:Restaurant Frohe Aussicht\, Uznach
DESCRIPTION:
SUMMARY:Sessionsrückblick NR / KR SVP See Gaster
ORGANIZER:SVP Kreispartei See-Gaster
URL;VALUE=URI:https://www.svp-eschenbach-sg.ch/termine/sessionsrueckblick-nr-kr-svp-kreis-see-gaster-2/
TRANSP:OPAQUE
END:VEVENT
END:VCALENDAR
