BEGIN:VCALENDAR
VERSION:2.0
PRODID:-//SVP Eschenbach //NONSGML Events //EN
CALSCALE:GREGORIAN
X-WR-CALNAME:SVP Eschenbach
BEGIN:VEVENT
CREATED:20260119T075637Z
UID:891
DTEND:20261108T110000
DTSTART:20261108T100000
DTSTAMP:20260420T152349Z
LOCATION:Firma Läderach\, Bilten
DESCRIPTION:
SUMMARY:Familienanlass Besuch Läderach SVP See-Gaster
ORGANIZER:SVP Kreispartei See-Gaster
URL;VALUE=URI:https://www.svp-eschenbach-sg.ch/termine/familienanlass-besuch-laederach-svp-kreis-see-gaster/
TRANSP:OPAQUE
END:VEVENT
END:VCALENDAR
