BEGIN:VCALENDAR
VERSION:2.0
PRODID:-//SVP Eschenbach //NONSGML Events //EN
CALSCALE:GREGORIAN
X-WR-CALNAME:SVP Eschenbach
BEGIN:VEVENT
CREATED:20260119T075754Z
UID:893
DTEND:20261112T210000
DTSTART:20261112T200000
DTSTAMP:20260420T151227Z
LOCATION:Offen
DESCRIPTION:Die Veranstaltung wird je nach abzustimmendem Thema durchgeführt.
SUMMARY:Abstimmungsveranstaltung SVP See-Gaster
ORGANIZER:SVP Kreispartei See-Gaster
URL;VALUE=URI:https://www.svp-eschenbach-sg.ch/termine/abstimmungsveranstaltung-svp-kreis-see-gaster-2/
TRANSP:OPAQUE
END:VEVENT
END:VCALENDAR
