BEGIN:VCALENDAR
VERSION:2.0
PRODID:-//SVP Eschenbach //NONSGML Events //EN
CALSCALE:GREGORIAN
X-WR-CALNAME:SVP Eschenbach
BEGIN:VEVENT
CREATED:20260119T080505Z
UID:898
DTEND:20270114T210000
DTSTART:20270114T200000
DTSTAMP:20260420T152119Z
LOCATION:Offen
DESCRIPTION:Besuch von Regierungsrat Christof Hartmann
SUMMARY:Neujahrsapéro SVP See-Gaster
ORGANIZER:SVP Kreispartei See-Gaster
URL;VALUE=URI:https://www.svp-eschenbach-sg.ch/termine/neujahrsapero-svp-see-gaster/
TRANSP:OPAQUE
END:VEVENT
END:VCALENDAR
